BEGIN:VCALENDAR
PRODID:-//MatrixMaxx//RemoteApi//EN
VERSION:2.0
METHOD:PUBLISH
CALSCALE:GREGORIAN
X-ORIGINAL-URL:http://www.fmi.org/forms/meeting/MeetingFormPublic/view?id=EB9C00000000
BEGIN:VEVENT
SUMMARY:2004 Human Resources/Training & Development Conference
LAST-MODIFIED:20040919
UID:ci_EB9C00000000@matrixgroup.net
CLASS:PUBLIC
CREATED:20040919
DTSTAMP:20040919
DTSTART:20040919
X-FUNAMBOL-ALLDAY:1
LOCATION:The+Loews+Hotel
DESCRIPTION:For full info see http://www.fmi.org/forms/meeting/MeetingFormPublic/view?id=EB9C00000000\n
DTEND:20040923
URL:http://www.fmi.org/forms/meeting/MeetingFormPublic/view?id=EB9C00000000
END:VEVENT
END:VCALENDAR