BEGIN:VCALENDAR
PRODID:-//MatrixMaxx//RemoteApi//EN
VERSION:2.0
METHOD:PUBLISH
CALSCALE:GREGORIAN
X-ORIGINAL-URL:http://www.youtube.com/watch?v=dvbVR6V9Sgc
BEGIN:VEVENT
SUMMARY:2025 Store Manager Awards Ceremony
LAST-MODIFIED:20250605T170000Z
UID:ci_CDB54200000001@matrixgroup.net
CLASS:PUBLIC
CREATED:20250605T170000Z
DTSTAMP:20250605T170000Z
DTSTART:20250605T170000Z
X-FUNAMBOL-ALLDAY:1
LOCATION:
DESCRIPTION:For+full+info+see+http%3A%2F%2Fwww.youtube.com%2Fwatch%3Fv%3DdvbVR6V9Sgc%0AStore+Manager+Awards+are+given+to+outstanding+managers+who+generate+sales+growth%2C+effectively+communicate+company+and+store+goals+and+objectives%2C+demonstrate+team+leadership+in+their+store%2Fcompany%2C+provide+exceptional+customer+service+through+in-store+programs+and+improve+community+relations.
X-WR-CALDESC:For+full+info+see+http%3A%2F%2Fwww.youtube.com%2Fwatch%3Fv%3DdvbVR6V9Sgc%0AStore+Manager+Awards+are+given+to+outstanding+managers+who+generate+sales+growth%2C+effectively+communicate+company+and+store+goals+and+objectives%2C+demonstrate+team+leadership+in+their+store%2Fcompany%2C+provide+exceptional+customer+service+through+in-store+programs+and+improve+community+relations.
X-WR-CALNAME:Maxx Calendar
DTEND:20250605T180000Z
URL:http://www.youtube.com/watch?v=dvbVR6V9Sgc
END:VEVENT
END:VCALENDAR