BEGIN:VCALENDAR
PRODID:-//MatrixMaxx//RemoteApi//EN
VERSION:2.0
METHOD:PUBLISH
CALSCALE:GREGORIAN
X-ORIGINAL-URL:http://www.fmi.org/forms/meeting/Microsite/SEEandSponsorSiteVisit2026
BEGIN:VEVENT
SUMMARY:2026 Midwinter Strategic Executive Exchange (SEEs) & Sponsor Site Visit
LAST-MODIFIED:20250722
UID:ci_C72A1700000005@matrixgroup.net
CLASS:PUBLIC
CREATED:20250722
DTSTAMP:20250722
DTSTART:20250722
X-FUNAMBOL-ALLDAY:1
LOCATION:Gaylord+Pacific
DESCRIPTION:For full info see http://www.fmi.org/forms/meeting/Microsite/SEEandSponsorSiteVisit2026\n
DTEND:20250725
URL:http://www.fmi.org/forms/meeting/Microsite/SEEandSponsorSiteVisit2026
END:VEVENT
END:VCALENDAR