BEGIN:VCALENDAR
PRODID:-//MatrixMaxx//RemoteApi//EN
VERSION:2.0
METHOD:PUBLISH
CALSCALE:GREGORIAN
X-ORIGINAL-URL:http://www.fmi.org/forms/meeting/Microsite/2023farmbill
BEGIN:VEVENT
SUMMARY:2023 Farm Bill Reauthorization
LAST-MODIFIED:20230927T180000Z
UID:ci_7DB71500000067@matrixgroup.net
CLASS:PUBLIC
CREATED:20230927T180000Z
DTSTAMP:20230927T180000Z
DTSTART:20230927T180000Z
X-FUNAMBOL-ALLDAY:1
LOCATION:Virtual
DESCRIPTION:For full info see http://www.fmi.org/forms/meeting/Microsite/2023farmbill\n2023 Farm Bill Reauthorization, September 27, at 2:00-3:00 pm ET.\n\nRegistered participants can access the event at https://educate.fmi.org/products/2023-farm-bill-reauthorization.
DTEND:20230927T190000Z
URL:http://www.fmi.org/forms/meeting/Microsite/2023farmbill
END:VEVENT
END:VCALENDAR