BEGIN:VCALENDAR
PRODID:-//MatrixMaxx//RemoteApi//EN
VERSION:2.0
METHOD:PUBLISH
CALSCALE:GREGORIAN
X-ORIGINAL-URL:http://www.fmi.org/forms/meeting/Microsite/refugeetalent
BEGIN:VEVENT
SUMMARY:Building Workforce Capacity: Connecting the Food Industry to Refugee Talent
LAST-MODIFIED:20231003T180000Z
UID:ci_7C95CF00000085@matrixgroup.net
CLASS:PUBLIC
CREATED:20231003T180000Z
DTSTAMP:20231003T180000Z
DTSTART:20231003T180000Z
X-FUNAMBOL-ALLDAY:1
LOCATION:Virtual
DESCRIPTION:For+full+info+see+http%3A%2F%2Fwww.fmi.org%2Fforms%2Fmeeting%2FMicrosite%2Frefugeetalent%0A%0D%0ABuilding+Workforce+Capacity%3A+Connecting+the+Food+Industry+to+Refugee+Talent+on+Tuesday%2C+October+3rd%2C+at+2%3A00-3%3A00+pm+ET.%0D%0A%0D%0ARegistered+participants+can+access+the+event+at+https%3A%2F%2Feducate.fmi.org%2Fp%2Frefugeetalent.
X-WR-CALDESC:For+full+info+see+http%3A%2F%2Fwww.fmi.org%2Fforms%2Fmeeting%2FMicrosite%2Frefugeetalent%0A%0D%0ABuilding+Workforce+Capacity%3A+Connecting+the+Food+Industry+to+Refugee+Talent+on+Tuesday%2C+October+3rd%2C+at+2%3A00-3%3A00+pm+ET.%0D%0A%0D%0ARegistered+participants+can+access+the+event+at+https%3A%2F%2Feducate.fmi.org%2Fp%2Frefugeetalent.
X-WR-CALNAME:Maxx Calendar
DTEND:20231003T190000Z
URL:http://www.fmi.org/forms/meeting/Microsite/refugeetalent
END:VEVENT
END:VCALENDAR