BEGIN:VCALENDAR
PRODID:-//MatrixMaxx//RemoteApi//EN
VERSION:2.0
METHOD:PUBLISH
CALSCALE:GREGORIAN
X-ORIGINAL-URL:http://www.fmi.org/forms/meeting/Microsite/Pop_Trends_Labor_Force
BEGIN:VEVENT
SUMMARY:Population Trends and Impacts for the U.S. Labor Force
LAST-MODIFIED:20230711T180000Z
UID:ci_7A07FD00000001@matrixgroup.net
CLASS:PUBLIC
CREATED:20230711T180000Z
DTSTAMP:20230711T180000Z
DTSTART:20230711T180000Z
X-FUNAMBOL-ALLDAY:1
LOCATION:Virtual
DESCRIPTION:For+full+info+see+http%3A%2F%2Fwww.fmi.org%2Fforms%2Fmeeting%2FMicrosite%2FPop_Trends_Labor_Force%0AThank+you+for+registering+for+Population+Trends+and+Impacts+for+the+U.S.+Labor+Force+on+July+11+at+2%3A00pm+Eastern%0D%0A%0D%0ARegistered+participants+can+access+the+event+at+https%3A%2F%2Feducate.fmi.org%2Fproducts%2Fpopulation-trends-and-impacts-for-the-us-labor-force
X-WR-CALDESC:For+full+info+see+http%3A%2F%2Fwww.fmi.org%2Fforms%2Fmeeting%2FMicrosite%2FPop_Trends_Labor_Force%0AThank+you+for+registering+for+Population+Trends+and+Impacts+for+the+U.S.+Labor+Force+on+July+11+at+2%3A00pm+Eastern%0D%0A%0D%0ARegistered+participants+can+access+the+event+at+https%3A%2F%2Feducate.fmi.org%2Fproducts%2Fpopulation-trends-and-impacts-for-the-us-labor-force
X-WR-CALNAME:Maxx Calendar
DTEND:20230711T190000Z
URL:http://www.fmi.org/forms/meeting/Microsite/Pop_Trends_Labor_Force
END:VEVENT
END:VCALENDAR