BEGIN:VCALENDAR
PRODID:-//MatrixMaxx//RemoteApi//EN
VERSION:2.0
METHOD:PUBLISH
CALSCALE:GREGORIAN
X-ORIGINAL-URL:http://www.fmi.org/forms/meeting/Microsite/state-issues-retreat-2023
BEGIN:VEVENT
SUMMARY:2023 FMI State Issues Retreat
LAST-MODIFIED:20230718T160000Z
UID:ci_76662600000083@matrixgroup.net
CLASS:PUBLIC
CREATED:20230718T160000Z
DTSTAMP:20230718T160000Z
DTSTART:20230718T160000Z
X-FUNAMBOL-ALLDAY:1
LOCATION:The+Chateaux+Deer+Valley
DESCRIPTION:For+full+info+see+http%3A%2F%2Fwww.fmi.org%2Fforms%2Fmeeting%2FMicrosite%2Fstate-issues-retreat-2023%0AThe+FMI+State+Issues+Retreat+is+an+annual+event+that+brings+together+food+retail+grocery+associations+and+food+and+grocery+company+government+relations+professionals+from+each+state+to+discuss+state+and+local+legislative+and+regulatory+issues.+
X-WR-CALDESC:For+full+info+see+http%3A%2F%2Fwww.fmi.org%2Fforms%2Fmeeting%2FMicrosite%2Fstate-issues-retreat-2023%0AThe+FMI+State+Issues+Retreat+is+an+annual+event+that+brings+together+food+retail+grocery+associations+and+food+and+grocery+company+government+relations+professionals+from+each+state+to+discuss+state+and+local+legislative+and+regulatory+issues.+
X-WR-CALNAME:Maxx Calendar
DTEND:20230720T160000Z
URL:http://www.fmi.org/forms/meeting/Microsite/state-issues-retreat-2023
END:VEVENT
END:VCALENDAR