BEGIN:VCALENDAR
PRODID:-//MatrixMaxx//RemoteApi//EN
VERSION:2.0
METHOD:PUBLISH
CALSCALE:GREGORIAN
X-ORIGINAL-URL:http://www.fmi.org/forms/meeting/Microsite/EPR_Packaging_Lessions
BEGIN:VEVENT
SUMMARY:FMI Digital Seminar: EPR Packaging - Lessons learned from Canada
LAST-MODIFIED:20221012T200000Z
UID:ci_7108390000004A@matrixgroup.net
CLASS:PUBLIC
CREATED:20221012T200000Z
DTSTAMP:20221012T200000Z
DTSTART:20221012T200000Z
X-FUNAMBOL-ALLDAY:1
LOCATION:Virtual
DESCRIPTION:For full info see http://www.fmi.org/forms/meeting/Microsite/EPR_Packaging_Lessions\nThank you for registering for the FMI Digital Seminar: EPR Packaging - Lessons learned from Canada on October 12 at 4:00 pm Eastern\n\nRegistered participants can access the event at https://educate.fmi.org/\nClick My Dashboard (Top Right Corner)
DTEND:20221012T210000Z
URL:http://www.fmi.org/forms/meeting/Microsite/EPR_Packaging_Lessions
END:VEVENT
END:VCALENDAR