BEGIN:VCALENDAR
PRODID:-//MatrixMaxx//RemoteApi//EN
VERSION:2.0
METHOD:PUBLISH
CALSCALE:GREGORIAN
X-ORIGINAL-URL:http://www.fmi.org/forms/meeting/Microsite/NFMM_2022
BEGIN:VEVENT
SUMMARY:Feed Your Family's Mental Health Digital Seminar
LAST-MODIFIED:20220818T180000Z
UID:ci_6F605900000089@matrixgroup.net
CLASS:PUBLIC
CREATED:20220818T180000Z
DTSTAMP:20220818T180000Z
DTSTART:20220818T180000Z
X-FUNAMBOL-ALLDAY:1
LOCATION:Virtual
DESCRIPTION:For full info see http://www.fmi.org/forms/meeting/Microsite/NFMM_2022\nThank you for registering for Feed Your Family's Mental Health \n\nThursday, August 18: 2:00 PM EDT\n\nRegistered participants can access the event at https://educate.fmi.org/\nClick on Dashboard at the top Right Corner\n
DTEND:20220818T190000Z
URL:http://www.fmi.org/forms/meeting/Microsite/NFMM_2022
END:VEVENT
END:VCALENDAR