BEGIN:VCALENDAR
PRODID:-//MatrixMaxx//RemoteApi//EN
VERSION:2.0
METHOD:PUBLISH
CALSCALE:GREGORIAN
X-ORIGINAL-URL:http://www.fmi.org/forms/meeting/Microsite/22storedirectors2
BEGIN:VEVENT
SUMMARY:Store Operations Series: Am I the Leader I Need to Be?
LAST-MODIFIED:20220714T170000Z
UID:ci_6E66960000000F@matrixgroup.net
CLASS:PUBLIC
CREATED:20220714T170000Z
DTSTAMP:20220714T170000Z
DTSTART:20220714T170000Z
X-FUNAMBOL-ALLDAY:1
LOCATION:Virtual
DESCRIPTION:For full info see http://www.fmi.org/forms/meeting/Microsite/22storedirectors2\nThank you for registering for Store Operations Series: Am I The Leader I Need to Be?\n\nThursday, July 14: 1:00 PM EDT\n\nRegistered participants can access the event at https://educate.fmi.org/
DTEND:20220714T180000Z
URL:http://www.fmi.org/forms/meeting/Microsite/22storedirectors2
END:VEVENT
END:VCALENDAR