BEGIN:VCALENDAR
PRODID:-//MatrixMaxx//RemoteApi//EN
VERSION:2.0
METHOD:PUBLISH
CALSCALE:GREGORIAN
X-ORIGINAL-URL:http://www.fmi.org/forms/meeting/Microsite/2022StoreManagerAwards
BEGIN:VEVENT
SUMMARY:2022 FMI Store Manager Awards
LAST-MODIFIED:20220428T190000Z
UID:ci_6C99990000013A@matrixgroup.net
CLASS:PUBLIC
CREATED:20220428T190000Z
DTSTAMP:20220428T190000Z
DTSTART:20220428T190000Z
X-FUNAMBOL-ALLDAY:1
LOCATION:Virtual
DESCRIPTION:For+full+info+see+http%3A%2F%2Fwww.fmi.org%2Fforms%2Fmeeting%2FMicrosite%2F2022StoreManagerAwards%0AEvery+year+our+members+nominate+top+store+manager+talent+from+their+stores+as+part+of+our+Store+Manager+Award+program.+Join+us+as+we+recognize+and+celebrate+the+2022+finalists%2C+who+stand+out+for+their+dedication%2C+community+commitment+and+innovation.%0D%0A%0D%0AClick+here+to+view%3A+https%3A%2F%2Fwww.youtube.com%2Fwatch%3Fv%3DY_kaZobQ22U
X-WR-CALDESC:For+full+info+see+http%3A%2F%2Fwww.fmi.org%2Fforms%2Fmeeting%2FMicrosite%2F2022StoreManagerAwards%0AEvery+year+our+members+nominate+top+store+manager+talent+from+their+stores+as+part+of+our+Store+Manager+Award+program.+Join+us+as+we+recognize+and+celebrate+the+2022+finalists%2C+who+stand+out+for+their+dedication%2C+community+commitment+and+innovation.%0D%0A%0D%0AClick+here+to+view%3A+https%3A%2F%2Fwww.youtube.com%2Fwatch%3Fv%3DY_kaZobQ22U
X-WR-CALNAME:Maxx Calendar
DTEND:20220428T193000Z
URL:http://www.fmi.org/forms/meeting/Microsite/2022StoreManagerAwards
END:VEVENT
END:VCALENDAR