BEGIN:VCALENDAR
PRODID:-//MatrixMaxx//RemoteApi//EN
VERSION:2.0
METHOD:PUBLISH
CALSCALE:GREGORIAN
X-ORIGINAL-URL:http://www.fmi.org/forms/meeting/Microsite/NFMM_SNP_OCT_27_2021
BEGIN:VEVENT
SUMMARY:Greatest Webinar Catch of the Month: National Seafood Month Reels In Family Meals Movement
LAST-MODIFIED:20211027T160000Z
UID:ci_6ACEBF00000009@matrixgroup.net
CLASS:PUBLIC
CREATED:20211027T160000Z
DTSTAMP:20211027T160000Z
DTSTART:20211027T160000Z
X-FUNAMBOL-ALLDAY:1
LOCATION:Virtual
DESCRIPTION:For+full+info+see+http%3A%2F%2Fwww.fmi.org%2Fforms%2Fmeeting%2FMicrosite%2FNFMM_SNP_OCT_27_2021%0AJoin+us+as+for+Greatest+Webinar+Catch+of+the+Month%3A+National+Seafood+Month+Reels+In+Family+Meals+Movement+on+October+27%2C+2021+at+12%3A00+p.m.+ET.+%0D%0A%0D%0A
X-WR-CALDESC:For+full+info+see+http%3A%2F%2Fwww.fmi.org%2Fforms%2Fmeeting%2FMicrosite%2FNFMM_SNP_OCT_27_2021%0AJoin+us+as+for+Greatest+Webinar+Catch+of+the+Month%3A+National+Seafood+Month+Reels+In+Family+Meals+Movement+on+October+27%2C+2021+at+12%3A00+p.m.+ET.+%0D%0A%0D%0A
X-WR-CALNAME:Maxx Calendar
DTEND:20211027T170000Z
URL:http://www.fmi.org/forms/meeting/Microsite/NFMM_SNP_OCT_27_2021
END:VEVENT
END:VCALENDAR