BEGIN:VCALENDAR
PRODID:-//MatrixMaxx//RemoteApi//EN
VERSION:2.0
METHOD:PUBLISH
CALSCALE:GREGORIAN
X-ORIGINAL-URL:http://www.fmi.org/forms/meeting/MeetingFormPublic/view?id=6A397B000001F0
BEGIN:VEVENT
SUMMARY:National Family Meals Month Lunch and Learn (Part IV, Affordable Family Meals)
LAST-MODIFIED:20210929T163000Z
UID:ci_6A397B000001F0@matrixgroup.net
CLASS:PUBLIC
CREATED:20210929T163000Z
DTSTAMP:20210929T163000Z
DTSTART:20210929T163000Z
X-FUNAMBOL-ALLDAY:1
LOCATION:
DESCRIPTION:For+full+info+see+http%3A%2F%2Fwww.fmi.org%2Fforms%2Fmeeting%2FMeetingFormPublic%2Fview%3Fid%3D6A397B000001F0%0AThank+you+for+you+interest+in+the+first+of+our+series+of+National+Family+Meals+Month+lunch+and+learn+webinars%21%0D%0A%0D%0AThe+link+to+join+the+meeting+is+here%3A+https%3A%2F%2Fteams.microsoft.com%2Fl%2Fmeetup-join%2F19%253ameeting_YzdkNTA5OTYtY2RiNy00OTZjLWFlOGItZGE1NjNkNjRkYTkz%2540thread.v2%2F0%3Fcontext%3D%257b%2522Tid%2522%253a%2522ccbe4184-12dc-45c1-ad10-f98274e61ec4%2522%252c%2522Oid%2522%253a%2522e47cee4a-701c-45a3-aa6e-e92ba91f5e8c%2522%257d%0D%0A%0D%0AYou+will+be+able+to+access+the+recording+of+this+event+as+well+as+FMI%27s+other+webinar+recordings+here%3A%0D%0Ahttps%3A%2F%2Fwww.fmi.org%2Fevents-education%2Fwebinars%2Fwebinar-recordings
X-WR-CALDESC:For+full+info+see+http%3A%2F%2Fwww.fmi.org%2Fforms%2Fmeeting%2FMeetingFormPublic%2Fview%3Fid%3D6A397B000001F0%0AThank+you+for+you+interest+in+the+first+of+our+series+of+National+Family+Meals+Month+lunch+and+learn+webinars%21%0D%0A%0D%0AThe+link+to+join+the+meeting+is+here%3A+https%3A%2F%2Fteams.microsoft.com%2Fl%2Fmeetup-join%2F19%253ameeting_YzdkNTA5OTYtY2RiNy00OTZjLWFlOGItZGE1NjNkNjRkYTkz%2540thread.v2%2F0%3Fcontext%3D%257b%2522Tid%2522%253a%2522ccbe4184-12dc-45c1-ad10-f98274e61ec4%2522%252c%2522Oid%2522%253a%2522e47cee4a-701c-45a3-aa6e-e92ba91f5e8c%2522%257d%0D%0A%0D%0AYou+will+be+able+to+access+the+recording+of+this+event+as+well+as+FMI%27s+other+webinar+recordings+here%3A%0D%0Ahttps%3A%2F%2Fwww.fmi.org%2Fevents-education%2Fwebinars%2Fwebinar-recordings
X-WR-CALNAME:Maxx Calendar
DTEND:20210929T170000Z
URL:http://www.fmi.org/forms/meeting/MeetingFormPublic/view?id=6A397B000001F0
END:VEVENT
END:VCALENDAR