BEGIN:VCALENDAR
PRODID:-//MatrixMaxx//RemoteApi//EN
VERSION:2.0
METHOD:PUBLISH
CALSCALE:GREGORIAN
X-ORIGINAL-URL:http://www.fmi.org/forms/meeting/Microsite/21storetours4
BEGIN:VEVENT
SUMMARY:Supermarket Close-Up with FMI and Harold Lloyd: Giant Riverwalk
LAST-MODIFIED:20210930T170000Z
UID:ci_6A1BBE000001B5@matrixgroup.net
CLASS:PUBLIC
CREATED:20210930T170000Z
DTSTAMP:20210930T170000Z
DTSTART:20210930T170000Z
X-FUNAMBOL-ALLDAY:1
LOCATION:Virtual
DESCRIPTION:For full info see http://www.fmi.org/forms/meeting/Microsite/21storetours4\nThank you for registering for Supermarket Close-Up with FMI and Harold Lloyd: Giant Riverwalk\n\nThursday, September 30 1:00 PM EDT\n\nConnection instructions will be sent to registered participants the day of the live event.
DTEND:20210930T180000Z
URL:http://www.fmi.org/forms/meeting/Microsite/21storetours4
END:VEVENT
END:VCALENDAR