BEGIN:VCALENDAR
PRODID:-//MatrixMaxx//RemoteApi//EN
VERSION:2.0
METHOD:PUBLISH
CALSCALE:GREGORIAN
X-ORIGINAL-URL:http://www.fmi.org/forms/meeting/Microsite/21storedirectors4
BEGIN:VEVENT
SUMMARY:Store Operations Series: The Concept of Flow and Focus
LAST-MODIFIED:20210914T170000Z
UID:ci_69CB5F0000048E@matrixgroup.net
CLASS:PUBLIC
CREATED:20210914T170000Z
DTSTAMP:20210914T170000Z
DTSTART:20210914T170000Z
X-FUNAMBOL-ALLDAY:1
LOCATION:Virtual
DESCRIPTION:For+full+info+see+http%3A%2F%2Fwww.fmi.org%2Fforms%2Fmeeting%2FMicrosite%2F21storedirectors4%0AThank+you+for+registering+for+The+Concept+of+Flow+and+Focus.%0D%0A%0D%0ATuesday%2C+September+14%3A+1%3A00+PM+EDT%0D%0A%0D%0AConnection+instructions+will+be+sent+to+registered+participants+the+day+of+the+live+event.
X-WR-CALDESC:For+full+info+see+http%3A%2F%2Fwww.fmi.org%2Fforms%2Fmeeting%2FMicrosite%2F21storedirectors4%0AThank+you+for+registering+for+The+Concept+of+Flow+and+Focus.%0D%0A%0D%0ATuesday%2C+September+14%3A+1%3A00+PM+EDT%0D%0A%0D%0AConnection+instructions+will+be+sent+to+registered+participants+the+day+of+the+live+event.
X-WR-CALNAME:Maxx Calendar
DTEND:20210914T180000Z
URL:http://www.fmi.org/forms/meeting/Microsite/21storedirectors4
END:VEVENT
END:VCALENDAR