BEGIN:VCALENDAR
PRODID:-//MatrixMaxx//RemoteApi//EN
VERSION:2.0
METHOD:PUBLISH
CALSCALE:GREGORIAN
X-ORIGINAL-URL:http://www.fmi.org/forms/meeting/Microsite/food_as_medicine_2021
BEGIN:VEVENT
SUMMARY:The Food as Medicine Opportunity at Retail
LAST-MODIFIED:20210923T170000Z
UID:ci_699E9200000001@matrixgroup.net
CLASS:PUBLIC
CREATED:20210923T170000Z
DTSTAMP:20210923T170000Z
DTSTART:20210923T170000Z
X-FUNAMBOL-ALLDAY:1
LOCATION:Virtual
DESCRIPTION:For+full+info+see+http%3A%2F%2Fwww.fmi.org%2Fforms%2Fmeeting%2FMicrosite%2Ffood_as_medicine_2021%0AJoin+us+as+for+The+Growing+Consumer+Health+Economy%3A+Food+as+Medicine+Opportunities+for+Food+Retailers+on+September+23%2C+2021+at+1%3A00+p.m.+ET.+%0D%0A%0D%0A
X-WR-CALDESC:For+full+info+see+http%3A%2F%2Fwww.fmi.org%2Fforms%2Fmeeting%2FMicrosite%2Ffood_as_medicine_2021%0AJoin+us+as+for+The+Growing+Consumer+Health+Economy%3A+Food+as+Medicine+Opportunities+for+Food+Retailers+on+September+23%2C+2021+at+1%3A00+p.m.+ET.+%0D%0A%0D%0A
X-WR-CALNAME:Maxx Calendar
DTEND:20210923T180000Z
URL:http://www.fmi.org/forms/meeting/Microsite/food_as_medicine_2021
END:VEVENT
END:VCALENDAR