BEGIN:VCALENDAR
PRODID:-//MatrixMaxx//RemoteApi//EN
VERSION:2.0
METHOD:PUBLISH
CALSCALE:GREGORIAN
X-ORIGINAL-URL:http://www.fmi.org/forms/meeting/Microsite/social_issues_food
BEGIN:VEVENT
SUMMARY:Social Issues and Food
LAST-MODIFIED:20210512T143000Z
UID:ci_689F170000000E@matrixgroup.net
CLASS:PUBLIC
CREATED:20210512T143000Z
DTSTAMP:20210512T143000Z
DTSTART:20210512T143000Z
X-FUNAMBOL-ALLDAY:1
LOCATION:Virtual
DESCRIPTION:For+full+info+see+http%3A%2F%2Fwww.fmi.org%2Fforms%2Fmeeting%2FMicrosite%2Fsocial_issues_food%0A
X-WR-CALDESC:For+full+info+see+http%3A%2F%2Fwww.fmi.org%2Fforms%2Fmeeting%2FMicrosite%2Fsocial_issues_food%0A
X-WR-CALNAME:Maxx Calendar
DTEND:20210512T153000Z
URL:http://www.fmi.org/forms/meeting/Microsite/social_issues_food
END:VEVENT
END:VCALENDAR