BEGIN:VCALENDAR
PRODID:-//MatrixMaxx//RemoteApi//EN
VERSION:2.0
METHOD:PUBLISH
CALSCALE:GREGORIAN
X-ORIGINAL-URL:http://www.fmi.org/forms/meeting/Microsite/21storetours2
BEGIN:VEVENT
SUMMARY:Supermarket Close-Up with FMI and Harold Lloyd: Hy-Vee Inc.
LAST-MODIFIED:20210422T170000Z
UID:ci_681EB3000000A9@matrixgroup.net
CLASS:PUBLIC
CREATED:20210422T170000Z
DTSTAMP:20210422T170000Z
DTSTART:20210422T170000Z
X-FUNAMBOL-ALLDAY:1
LOCATION:Virtual
DESCRIPTION:For+full+info+see+http%3A%2F%2Fwww.fmi.org%2Fforms%2Fmeeting%2FMicrosite%2F21storetours2%0AThank+you+for+registering+for+Supermarket+Close-Up+with+FMI+and+Harold+Lloyd%3A+Hy-Vee%2C+Inc.%0D%0A%0D%0AThursday%2C+April+22+1%3A00+PM+EDT%0D%0A%0D%0AConnection+instructions+will+be+sent+to+registered+participants+the+day+of+the+live+event.
X-WR-CALDESC:For+full+info+see+http%3A%2F%2Fwww.fmi.org%2Fforms%2Fmeeting%2FMicrosite%2F21storetours2%0AThank+you+for+registering+for+Supermarket+Close-Up+with+FMI+and+Harold+Lloyd%3A+Hy-Vee%2C+Inc.%0D%0A%0D%0AThursday%2C+April+22+1%3A00+PM+EDT%0D%0A%0D%0AConnection+instructions+will+be+sent+to+registered+participants+the+day+of+the+live+event.
X-WR-CALNAME:Maxx Calendar
DTEND:20210422T180000Z
URL:http://www.fmi.org/forms/meeting/Microsite/21storetours2
END:VEVENT
END:VCALENDAR