BEGIN:VCALENDAR
PRODID:-//MatrixMaxx//RemoteApi//EN
VERSION:2.0
METHOD:PUBLISH
CALSCALE:GREGORIAN
X-ORIGINAL-URL:http://www.fmi.org/forms/meeting/Microsite/freshforwardconversation4
BEGIN:VEVENT
SUMMARY:A FreshForward Conversation with Smithfield:  Next Steps for Enhancing Meat Industry Strategies
LAST-MODIFIED:20210310T190000Z
UID:ci_6784CC00000063@matrixgroup.net
CLASS:PUBLIC
CREATED:20210310T190000Z
DTSTAMP:20210310T190000Z
DTSTART:20210310T190000Z
X-FUNAMBOL-ALLDAY:1
LOCATION:Virtual
DESCRIPTION:For+full+info+see+http%3A%2F%2Fwww.fmi.org%2Fforms%2Fmeeting%2FMicrosite%2Ffreshforwardconversation4%0AA+FreshForward+Conversation+with+Smithfield%3A++Next+Steps+for+Enhancing+Meat+Industry+Strategies%27+will+share+opportunities+to+build+capabilities+to+switch+between+retail+and+foodservice+needs+and+considerations+for+adapting+just-in-time+supply+chains+for+future+crisis+situations.%0D%0A%0D%0AAttend+FMI%27s+%27TA+FreshForward+Conversation+with+Invatron%3A++Enhance+Demand+Forecasting+in+Fresh%27+Webinar.+%0D%0A%0D%0AFebruary+10%2C+2020+2%3A00+PM+EDT%0D%0A%0D%0AConnection+instructions+will+be+sent+to+registered+participants+the+day+of+the+live+event.++If+you+do+not+receive+them%2C+e-mail+register%40fmi.org%0D%0A
X-WR-CALDESC:For+full+info+see+http%3A%2F%2Fwww.fmi.org%2Fforms%2Fmeeting%2FMicrosite%2Ffreshforwardconversation4%0AA+FreshForward+Conversation+with+Smithfield%3A++Next+Steps+for+Enhancing+Meat+Industry+Strategies%27+will+share+opportunities+to+build+capabilities+to+switch+between+retail+and+foodservice+needs+and+considerations+for+adapting+just-in-time+supply+chains+for+future+crisis+situations.%0D%0A%0D%0AAttend+FMI%27s+%27TA+FreshForward+Conversation+with+Invatron%3A++Enhance+Demand+Forecasting+in+Fresh%27+Webinar.+%0D%0A%0D%0AFebruary+10%2C+2020+2%3A00+PM+EDT%0D%0A%0D%0AConnection+instructions+will+be+sent+to+registered+participants+the+day+of+the+live+event.++If+you+do+not+receive+them%2C+e-mail+register%40fmi.org%0D%0A
X-WR-CALNAME:Maxx Calendar
DTEND:20210310T200000Z
URL:http://www.fmi.org/forms/meeting/Microsite/freshforwardconversation4
END:VEVENT
END:VCALENDAR