BEGIN:VCALENDAR
PRODID:-//MatrixMaxx//RemoteApi//EN
VERSION:2.0
METHOD:PUBLISH
CALSCALE:GREGORIAN
X-ORIGINAL-URL:http://www.fmi.org/forms/meeting/MeetingFormPublic/view?id=65A4200000486
BEGIN:VEVENT
SUMMARY:2011 Asset Protection Conference
LAST-MODIFIED:20110306
UID:ci_65A4200000486@matrixgroup.net
CLASS:PUBLIC
CREATED:20110306
DTSTAMP:20110306
DTSTART:20110306
X-FUNAMBOL-ALLDAY:1
LOCATION:Buena+Vista+Palace+Hotel+%26+Spa
DESCRIPTION:For+full+info+see+http%3A%2F%2Fwww.fmi.org%2Fforms%2Fmeeting%2FMeetingFormPublic%2Fview%3Fid%3D65A4200000486%0A
X-WR-CALDESC:For+full+info+see+http%3A%2F%2Fwww.fmi.org%2Fforms%2Fmeeting%2FMeetingFormPublic%2Fview%3Fid%3D65A4200000486%0A
X-WR-CALNAME:Maxx Calendar
DTEND:20110310
URL:http://www.fmi.org/forms/meeting/MeetingFormPublic/view?id=65A4200000486
END:VEVENT
END:VCALENDAR