BEGIN:VCALENDAR
PRODID:-//MatrixMaxx//RemoteApi//EN
VERSION:2.0
METHOD:PUBLISH
CALSCALE:GREGORIAN
X-ORIGINAL-URL:http://www.fmi.org/forms/meeting/Microsite/speaks2020
BEGIN:VEVENT
SUMMARY:The Food Retail Industry Speaks, What Are They Saying?
LAST-MODIFIED:20201007T180000Z
UID:ci_63176B00000092@matrixgroup.net
CLASS:PUBLIC
CREATED:20201007T180000Z
DTSTAMP:20201007T180000Z
DTSTART:20201007T180000Z
X-FUNAMBOL-ALLDAY:1
LOCATION:Virtual
DESCRIPTION:For+full+info+see+http%3A%2F%2Fwww.fmi.org%2Fforms%2Fmeeting%2FMicrosite%2Fspeaks2020%0ATHE+FOOD+RETAIL+INDUSTRY+SPEAKS%2C+WHAT+ARE+THEY+SAYING%3F%0D%0A%0D%0AWednesday%2C+October+7%2C+2020+2%3A00+PM+EDT%0D%0A%0D%0A
X-WR-CALDESC:For+full+info+see+http%3A%2F%2Fwww.fmi.org%2Fforms%2Fmeeting%2FMicrosite%2Fspeaks2020%0ATHE+FOOD+RETAIL+INDUSTRY+SPEAKS%2C+WHAT+ARE+THEY+SAYING%3F%0D%0A%0D%0AWednesday%2C+October+7%2C+2020+2%3A00+PM+EDT%0D%0A%0D%0A
X-WR-CALNAME:Maxx Calendar
DTEND:20201007T190000Z
URL:http://www.fmi.org/forms/meeting/Microsite/speaks2020
END:VEVENT
END:VCALENDAR