BEGIN:VCALENDAR
PRODID:-//MatrixMaxx//RemoteApi//EN
VERSION:2.0
METHOD:PUBLISH
CALSCALE:GREGORIAN
X-ORIGINAL-URL:http://www.fmi.org/forms/meeting/Microsite/DIW2021
BEGIN:VEVENT
SUMMARY:2021 Day in Washington
LAST-MODIFIED:20210421T120000Z
UID:ci_5E16A500000469@matrixgroup.net
CLASS:PUBLIC
CREATED:20210421T120000Z
DTSTAMP:20210421T120000Z
DTSTART:20210421T120000Z
X-FUNAMBOL-ALLDAY:1
LOCATION:
DESCRIPTION:For+full+info+see+http%3A%2F%2Fwww.fmi.org%2Fforms%2Fmeeting%2FMicrosite%2FDIW2021%0A%22Day+in+Washington%22+brings+senior+level+retailer+and+wholesaler+executives+together+with+Members+of+Congress+and+administration+officials+to+address+critical+industry+public+policy+issues.+The+annual+conference+is+held+in+conjunction+with+the+National+Grocers+Association.+This+conference+will+be+held+virtually.+
X-WR-CALDESC:For+full+info+see+http%3A%2F%2Fwww.fmi.org%2Fforms%2Fmeeting%2FMicrosite%2FDIW2021%0A%22Day+in+Washington%22+brings+senior+level+retailer+and+wholesaler+executives+together+with+Members+of+Congress+and+administration+officials+to+address+critical+industry+public+policy+issues.+The+annual+conference+is+held+in+conjunction+with+the+National+Grocers+Association.+This+conference+will+be+held+virtually.+
X-WR-CALNAME:Maxx Calendar
DTEND:20210422T000000Z
URL:http://www.fmi.org/forms/meeting/Microsite/DIW2021
END:VEVENT
END:VCALENDAR