BEGIN:VCALENDAR
PRODID:-//MatrixMaxx//RemoteApi//EN
VERSION:2.0
METHOD:PUBLISH
CALSCALE:GREGORIAN
X-ORIGINAL-URL:http://www.fmi.org/forms/meeting/MeetingFormPublic/view?id=55BAFB00000193
BEGIN:VEVENT
SUMMARY:Nourish Trust-Building Transparency
LAST-MODIFIED:20190228T180000Z
UID:ci_55BAFB00000193@matrixgroup.net
CLASS:PUBLIC
CREATED:20190228T180000Z
DTSTAMP:20190228T180000Z
DTSTART:20190228T180000Z
X-FUNAMBOL-ALLDAY:1
LOCATION:
DESCRIPTION:For+full+info+see+http%3A%2F%2Fwww.fmi.org%2Fforms%2Fmeeting%2FMeetingFormPublic%2Fview%3Fid%3D55BAFB00000193%0AThis+report+on+what+is+the+future+of+transparency+in+an+omnichannel+world+and+provides+guidance+for+industry+next+steps.
X-WR-CALDESC:For+full+info+see+http%3A%2F%2Fwww.fmi.org%2Fforms%2Fmeeting%2FMeetingFormPublic%2Fview%3Fid%3D55BAFB00000193%0AThis+report+on+what+is+the+future+of+transparency+in+an+omnichannel+world+and+provides+guidance+for+industry+next+steps.
X-WR-CALNAME:Maxx Calendar
DTEND:20190228T190000Z
URL:http://www.fmi.org/forms/meeting/MeetingFormPublic/view?id=55BAFB00000193
END:VEVENT
END:VCALENDAR