BEGIN:VCALENDAR
PRODID:-//MatrixMaxx//RemoteApi//EN
VERSION:2.0
METHOD:PUBLISH
CALSCALE:GREGORIAN
X-ORIGINAL-URL:http://www.fmi.org/forms/meeting/MeetingFormPublic/view?id=542BF6000002A8
BEGIN:VEVENT
SUMMARY:Webinar: 2018 Election Results and Next Steps for Policy
LAST-MODIFIED:20181107T203000Z
UID:ci_542BF6000002A8@matrixgroup.net
CLASS:PUBLIC
CREATED:20181107T203000Z
DTSTAMP:20181107T203000Z
DTSTART:20181107T203000Z
X-FUNAMBOL-ALLDAY:1
LOCATION:
DESCRIPTION:For+full+info+see+http%3A%2F%2Fwww.fmi.org%2Fforms%2Fmeeting%2FMeetingFormPublic%2Fview%3Fid%3D542BF6000002A8%0AFMI%27s+Jennifer+Hatcher+leads+a+recap+of+the+2018+Midterm+elections%2C+as+well+as+an+overview+of+what+policies+to+expect+in+the+coming+year.
X-WR-CALDESC:For+full+info+see+http%3A%2F%2Fwww.fmi.org%2Fforms%2Fmeeting%2FMeetingFormPublic%2Fview%3Fid%3D542BF6000002A8%0AFMI%27s+Jennifer+Hatcher+leads+a+recap+of+the+2018+Midterm+elections%2C+as+well+as+an+overview+of+what+policies+to+expect+in+the+coming+year.
X-WR-CALNAME:Maxx Calendar
DTEND:20181107T213000Z
URL:http://www.fmi.org/forms/meeting/MeetingFormPublic/view?id=542BF6000002A8
END:VEVENT
END:VCALENDAR