BEGIN:VCALENDAR
PRODID:-//MatrixMaxx//RemoteApi//EN
VERSION:2.0
METHOD:PUBLISH
CALSCALE:GREGORIAN
X-ORIGINAL-URL:http://www.fmi.org/forms/meeting/MeetingFormPublic/view?id=5404AB00000003
BEGIN:VEVENT
SUMMARY:Webinar: Proposed Settlement - Credit Card Interchange Case
LAST-MODIFIED:20181031T150000Z
UID:ci_5404AB00000003@matrixgroup.net
CLASS:PUBLIC
CREATED:20181031T150000Z
DTSTAMP:20181031T150000Z
DTSTART:20181031T150000Z
X-FUNAMBOL-ALLDAY:1
LOCATION:
DESCRIPTION:For+full+info+see+http%3A%2F%2Fwww.fmi.org%2Fforms%2Fmeeting%2FMeetingFormPublic%2Fview%3Fid%3D5404AB00000003%0AFMI+webinar+on+the+proposed+credit+card+interchange+class+action+case+settlement.
X-WR-CALDESC:For+full+info+see+http%3A%2F%2Fwww.fmi.org%2Fforms%2Fmeeting%2FMeetingFormPublic%2Fview%3Fid%3D5404AB00000003%0AFMI+webinar+on+the+proposed+credit+card+interchange+class+action+case+settlement.
X-WR-CALNAME:Maxx Calendar
DTEND:20181031T160000Z
URL:http://www.fmi.org/forms/meeting/MeetingFormPublic/view?id=5404AB00000003
END:VEVENT
END:VCALENDAR