BEGIN:VCALENDAR
PRODID:-//MatrixMaxx//RemoteApi//EN
VERSION:2.0
METHOD:PUBLISH
CALSCALE:GREGORIAN
X-ORIGINAL-URL:http://www.fmi.org/forms/meeting/MeetingFormPublic/view?id=53EF66000000D5
BEGIN:VEVENT
SUMMARY:Insights on Maximizing Broker Relationships
LAST-MODIFIED:20181113T190000Z
UID:ci_53EF66000000D5@matrixgroup.net
CLASS:PUBLIC
CREATED:20181113T190000Z
DTSTAMP:20181113T190000Z
DTSTART:20181113T190000Z
X-FUNAMBOL-ALLDAY:1
LOCATION:
DESCRIPTION:For+full+info+see+http%3A%2F%2Fwww.fmi.org%2Fforms%2Fmeeting%2FMeetingFormPublic%2Fview%3Fid%3D53EF66000000D5%0ALearn+how+the+old+model+of+finding+and+working+with+a+broker+has+changed%2C+and+how+redefining+the+manufacturer-broker+relationship+is+key+to+managing+sales+and+costs+control.+%0D%0A
X-WR-CALDESC:For+full+info+see+http%3A%2F%2Fwww.fmi.org%2Fforms%2Fmeeting%2FMeetingFormPublic%2Fview%3Fid%3D53EF66000000D5%0ALearn+how+the+old+model+of+finding+and+working+with+a+broker+has+changed%2C+and+how+redefining+the+manufacturer-broker+relationship+is+key+to+managing+sales+and+costs+control.+%0D%0A
X-WR-CALNAME:Maxx Calendar
DTEND:20181113T200000Z
URL:http://www.fmi.org/forms/meeting/MeetingFormPublic/view?id=53EF66000000D5
END:VEVENT
END:VCALENDAR