BEGIN:VCALENDAR
PRODID:-//MatrixMaxx//RemoteApi//EN
VERSION:2.0
METHOD:PUBLISH
CALSCALE:GREGORIAN
X-ORIGINAL-URL:http://www.fmi.org/forms/meeting/MeetingFormPublic/view?id=53BF0600000089
BEGIN:VEVENT
SUMMARY:Retail Canned Tuna Forum: Overview of Tuna Sustainability Initiatives
LAST-MODIFIED:20181024T180000Z
UID:ci_53BF0600000089@matrixgroup.net
CLASS:PUBLIC
CREATED:20181024T180000Z
DTSTAMP:20181024T180000Z
DTSTART:20181024T180000Z
X-FUNAMBOL-ALLDAY:1
LOCATION:
DESCRIPTION:For+full+info+see+http%3A%2F%2Fwww.fmi.org%2Fforms%2Fmeeting%2FMeetingFormPublic%2Fview%3Fid%3D53BF0600000089%0AThe+third+webinar+will+focus+on+tuna+sustainability+initiatives%2C+and+provide+further+foundation+on+which+to+develop+the+voluntary+sustainability+bar.%0D%0A%0D%0A
X-WR-CALDESC:For+full+info+see+http%3A%2F%2Fwww.fmi.org%2Fforms%2Fmeeting%2FMeetingFormPublic%2Fview%3Fid%3D53BF0600000089%0AThe+third+webinar+will+focus+on+tuna+sustainability+initiatives%2C+and+provide+further+foundation+on+which+to+develop+the+voluntary+sustainability+bar.%0D%0A%0D%0A
X-WR-CALNAME:Maxx Calendar
DTEND:20181024T190000Z
URL:http://www.fmi.org/forms/meeting/MeetingFormPublic/view?id=53BF0600000089
END:VEVENT
END:VCALENDAR