BEGIN:VCALENDAR
PRODID:-//MatrixMaxx//RemoteApi//EN
VERSION:2.0
METHOD:PUBLISH
CALSCALE:GREGORIAN
X-ORIGINAL-URL:http://www.fmi.org/forms/meeting/MeetingFormPublic/view?id=53BB9A00000061
BEGIN:VEVENT
SUMMARY:Power of Private Brands (From the World)
LAST-MODIFIED:20181025T180000Z
UID:ci_53BB9A00000061@matrixgroup.net
CLASS:PUBLIC
CREATED:20181025T180000Z
DTSTAMP:20181025T180000Z
DTSTART:20181025T180000Z
X-FUNAMBOL-ALLDAY:1
LOCATION:
DESCRIPTION:For+full+info+see+http%3A%2F%2Fwww.fmi.org%2Fforms%2Fmeeting%2FMeetingFormPublic%2Fview%3Fid%3D53BB9A00000061%0AU.S.+food+retailers+have+long+known+that+their+private+brand+shares+are+generally+much+lower+than+those+in+Europe.++However%2C+in+this+new+era+of+innovation+and+growth+if+the+U.S.+can+advance+and+approach+those+higher+shares+in+the+coming+years.
X-WR-CALDESC:For+full+info+see+http%3A%2F%2Fwww.fmi.org%2Fforms%2Fmeeting%2FMeetingFormPublic%2Fview%3Fid%3D53BB9A00000061%0AU.S.+food+retailers+have+long+known+that+their+private+brand+shares+are+generally+much+lower+than+those+in+Europe.++However%2C+in+this+new+era+of+innovation+and+growth+if+the+U.S.+can+advance+and+approach+those+higher+shares+in+the+coming+years.
X-WR-CALNAME:Maxx Calendar
DTEND:20181025T190000Z
URL:http://www.fmi.org/forms/meeting/MeetingFormPublic/view?id=53BB9A00000061
END:VEVENT
END:VCALENDAR