BEGIN:VCALENDAR
PRODID:-//MatrixMaxx//RemoteApi//EN
VERSION:2.0
METHOD:PUBLISH
CALSCALE:GREGORIAN
X-ORIGINAL-URL:http://www.fmi.org/forms/meeting/MeetingFormPublic/view?id=53A94D00000111
BEGIN:VEVENT
SUMMARY:Webinar: Medical Cannabis, CBDs and the Role of Pharmacists
LAST-MODIFIED:20181107T190000Z
UID:ci_53A94D00000111@matrixgroup.net
CLASS:PUBLIC
CREATED:20181107T190000Z
DTSTAMP:20181107T190000Z
DTSTART:20181107T190000Z
X-FUNAMBOL-ALLDAY:1
LOCATION:
DESCRIPTION:For full info see http://www.fmi.org/forms/meeting/MeetingFormPublic/view?id=53A94D00000111\nLearn what pharmacies (and their pharmacists) should know about the current landscape of medical cannabis in the country – including potential liability issues – at a time when state laws are both evolving, and at odds with federal law.
DTEND:20181107T200000Z
URL:http://www.fmi.org/forms/meeting/MeetingFormPublic/view?id=53A94D00000111
END:VEVENT
END:VCALENDAR