BEGIN:VCALENDAR
PRODID:-//MatrixMaxx//RemoteApi//EN
VERSION:2.0
METHOD:PUBLISH
CALSCALE:GREGORIAN
X-ORIGINAL-URL:http://www.fmi.org/forms/meeting/MeetingFormPublic/view?id=52C8DC00000001
BEGIN:VEVENT
SUMMARY:The Food Retailing Industry Speaks, What Are They Saying?
LAST-MODIFIED:20181004T150000Z
UID:ci_52C8DC00000001@matrixgroup.net
CLASS:PUBLIC
CREATED:20181004T150000Z
DTSTAMP:20181004T150000Z
DTSTART:20181004T150000Z
X-FUNAMBOL-ALLDAY:1
LOCATION:
DESCRIPTION:For+full+info+see+http%3A%2F%2Fwww.fmi.org%2Fforms%2Fmeeting%2FMeetingFormPublic%2Fview%3Fid%3D52C8DC00000001%0A+
X-WR-CALDESC:For+full+info+see+http%3A%2F%2Fwww.fmi.org%2Fforms%2Fmeeting%2FMeetingFormPublic%2Fview%3Fid%3D52C8DC00000001%0A+
X-WR-CALNAME:Maxx Calendar
DTEND:20181004T160000Z
URL:http://www.fmi.org/forms/meeting/MeetingFormPublic/view?id=52C8DC00000001
END:VEVENT
END:VCALENDAR