BEGIN:VCALENDAR
PRODID:-//MatrixMaxx//RemoteApi//EN
VERSION:2.0
METHOD:PUBLISH
CALSCALE:GREGORIAN
X-ORIGINAL-URL:http://www.fmi.org/forms/meeting/MeetingFormPublic/view?id=52C1E900000031
BEGIN:VEVENT
SUMMARY:Retail Canned Tuna Forum: Focus on Selected Priority Issue(s)
LAST-MODIFIED:20180920T180000Z
UID:ci_52C1E900000031@matrixgroup.net
CLASS:PUBLIC
CREATED:20180920T180000Z
DTSTAMP:20180920T180000Z
DTSTART:20180920T180000Z
X-FUNAMBOL-ALLDAY:1
LOCATION:
DESCRIPTION:For+full+info+see+http%3A%2F%2Fwww.fmi.org%2Fforms%2Fmeeting%2FMeetingFormPublic%2Fview%3Fid%3D52C1E900000031%0AIn+July+2018%2C+a+short+survey+was+circulated+to+potential+members+of+a+%E2%80%9CRetail+Canned+Tuna+Forum%E2%80%9D+to+determine+key+areas+of+interest+and+concern+around+canned+tuna.+
X-WR-CALDESC:For+full+info+see+http%3A%2F%2Fwww.fmi.org%2Fforms%2Fmeeting%2FMeetingFormPublic%2Fview%3Fid%3D52C1E900000031%0AIn+July+2018%2C+a+short+survey+was+circulated+to+potential+members+of+a+%E2%80%9CRetail+Canned+Tuna+Forum%E2%80%9D+to+determine+key+areas+of+interest+and+concern+around+canned+tuna.+
X-WR-CALNAME:Maxx Calendar
DTEND:20180920T190000Z
URL:http://www.fmi.org/forms/meeting/MeetingFormPublic/view?id=52C1E900000031
END:VEVENT
END:VCALENDAR