BEGIN:VCALENDAR
PRODID:-//MatrixMaxx//RemoteApi//EN
VERSION:2.0
METHOD:PUBLISH
CALSCALE:GREGORIAN
X-ORIGINAL-URL:http://www.fmi.org/forms/meeting/MeetingFormPublic/view?id=52C1A000000269
BEGIN:VEVENT
SUMMARY:Power of Private Brands (From the Industry)
LAST-MODIFIED:20180925T180000Z
UID:ci_52C1A000000269@matrixgroup.net
CLASS:PUBLIC
CREATED:20180925T180000Z
DTSTAMP:20180925T180000Z
DTSTART:20180925T180000Z
X-FUNAMBOL-ALLDAY:1
LOCATION:
DESCRIPTION:For+full+info+see+http%3A%2F%2Fwww.fmi.org%2Fforms%2Fmeeting%2FMeetingFormPublic%2Fview%3Fid%3D52C1A000000269%0AThe+consumer+is+at+the+center+of+private+brands+growth%2C+but+it%E2%80%99s+the+industry+where+strategies+are+being+formulated+and+executed.+Consumers+have+reacted+positively+in+recent+years+to+increased+innovation+in+private+brands.+
X-WR-CALDESC:For+full+info+see+http%3A%2F%2Fwww.fmi.org%2Fforms%2Fmeeting%2FMeetingFormPublic%2Fview%3Fid%3D52C1A000000269%0AThe+consumer+is+at+the+center+of+private+brands+growth%2C+but+it%E2%80%99s+the+industry+where+strategies+are+being+formulated+and+executed.+Consumers+have+reacted+positively+in+recent+years+to+increased+innovation+in+private+brands.+
X-WR-CALNAME:Maxx Calendar
DTEND:20180925T190000Z
URL:http://www.fmi.org/forms/meeting/MeetingFormPublic/view?id=52C1A000000269
END:VEVENT
END:VCALENDAR