BEGIN:VCALENDAR
PRODID:-//MatrixMaxx//RemoteApi//EN
VERSION:2.0
METHOD:PUBLISH
CALSCALE:GREGORIAN
X-ORIGINAL-URL:http://www.fmi.org/forms/meeting/MeetingFormPublic/view?id=52BAA1000000CF
BEGIN:VEVENT
SUMMARY:Learning to Use Your Label and Ingredients for Sales Growth
LAST-MODIFIED:20181011T180000Z
UID:ci_52BAA1000000CF@matrixgroup.net
CLASS:PUBLIC
CREATED:20181011T180000Z
DTSTAMP:20181011T180000Z
DTSTART:20181011T180000Z
X-FUNAMBOL-ALLDAY:1
LOCATION:
DESCRIPTION:For+full+info+see+http%3A%2F%2Fwww.fmi.org%2Fforms%2Fmeeting%2FMeetingFormPublic%2Fview%3Fid%3D52BAA1000000CF%0A
X-WR-CALDESC:For+full+info+see+http%3A%2F%2Fwww.fmi.org%2Fforms%2Fmeeting%2FMeetingFormPublic%2Fview%3Fid%3D52BAA1000000CF%0A
X-WR-CALNAME:Maxx Calendar
DTEND:20181011T180000Z
URL:http://www.fmi.org/forms/meeting/MeetingFormPublic/view?id=52BAA1000000CF
END:VEVENT
END:VCALENDAR