BEGIN:VCALENDAR
PRODID:-//MatrixMaxx//RemoteApi//EN
VERSION:2.0
METHOD:PUBLISH
CALSCALE:GREGORIAN
X-ORIGINAL-URL:http://www.fmi.org/forms/meeting/Microsite/northeast-regional-meeting
BEGIN:VEVENT
SUMMARY:FMI Northeast Regional Meeting
LAST-MODIFIED:20181128T130000Z
UID:ci_52A88900000159@matrixgroup.net
CLASS:PUBLIC
CREATED:20181128T130000Z
DTSTAMP:20181128T130000Z
DTSTART:20181128T130000Z
X-FUNAMBOL-ALLDAY:1
LOCATION:Hilton+Garden+Inn+Springfield
DESCRIPTION:For full info see http://www.fmi.org/forms/meeting/Microsite/northeast-regional-meeting\nFMI's Regional Legislative Meetings bring together FMI members and state\nassociation executives to share information regionally, and to discuss legislative and regulatory strategies and issues of importance for the upcoming state legislative sessions.
DTEND:20181128T200000Z
URL:http://www.fmi.org/forms/meeting/Microsite/northeast-regional-meeting
END:VEVENT
END:VCALENDAR