BEGIN:VCALENDAR
PRODID:-//MatrixMaxx//RemoteApi//EN
VERSION:2.0
METHOD:PUBLISH
CALSCALE:GREGORIAN
X-ORIGINAL-URL:http://www.fmi.org/forms/meeting/MeetingFormPublic/view?id=52778F0000004E
BEGIN:VEVENT
SUMMARY:Top Trends in Fresh: The Connected Consumer and Personalization
LAST-MODIFIED:20180913T180000Z
UID:ci_52778F0000004E@matrixgroup.net
CLASS:PUBLIC
CREATED:20180913T180000Z
DTSTAMP:20180913T180000Z
DTSTART:20180913T180000Z
X-FUNAMBOL-ALLDAY:1
LOCATION:
DESCRIPTION:For+full+info+see+http%3A%2F%2Fwww.fmi.org%2Fforms%2Fmeeting%2FMeetingFormPublic%2Fview%3Fid%3D52778F0000004E%0AThe+fourth+installment+of+the+2018+Top+Trends+in+Fresh+webinar+series%2C+focuses+on+trends+that+are+changing+how+consumers+use+digital+and+social+for+their+shopping+needs%2C+as+well+as+how+personalization+has+evolved+for+fresh+foods.+
X-WR-CALDESC:For+full+info+see+http%3A%2F%2Fwww.fmi.org%2Fforms%2Fmeeting%2FMeetingFormPublic%2Fview%3Fid%3D52778F0000004E%0AThe+fourth+installment+of+the+2018+Top+Trends+in+Fresh+webinar+series%2C+focuses+on+trends+that+are+changing+how+consumers+use+digital+and+social+for+their+shopping+needs%2C+as+well+as+how+personalization+has+evolved+for+fresh+foods.+
X-WR-CALNAME:Maxx Calendar
DTEND:20180913T190000Z
URL:http://www.fmi.org/forms/meeting/MeetingFormPublic/view?id=52778F0000004E
END:VEVENT
END:VCALENDAR