BEGIN:VCALENDAR
PRODID:-//MatrixMaxx//RemoteApi//EN
VERSION:2.0
METHOD:PUBLISH
CALSCALE:GREGORIAN
X-ORIGINAL-URL:http://www.fmi.org/forms/meeting/MeetingFormPublic/view?id=51AA620000008D
BEGIN:VEVENT
SUMMARY:Top Trends in Fresh: New Consumerism and the Customization Continuum
LAST-MODIFIED:20180816T180000Z
UID:ci_51AA620000008D@matrixgroup.net
CLASS:PUBLIC
CREATED:20180816T180000Z
DTSTAMP:20180816T180000Z
DTSTART:20180816T180000Z
X-FUNAMBOL-ALLDAY:1
LOCATION:Webinar
DESCRIPTION:For full info see http://www.fmi.org/forms/meeting/MeetingFormPublic/view?id=51AA620000008D\nAlthough it has been the fastest growing segment in CPG for a number of years, the perimeter is no longer the slam dunk it once was. 
DTEND:20180816T190000Z
URL:http://www.fmi.org/forms/meeting/MeetingFormPublic/view?id=51AA620000008D
END:VEVENT
END:VCALENDAR