BEGIN:VCALENDAR
PRODID:-//MatrixMaxx//RemoteApi//EN
VERSION:2.0
METHOD:PUBLISH
CALSCALE:GREGORIAN
X-ORIGINAL-URL:http://www.fmi.org/forms/meeting/MeetingFormPublic/view?id=511E9D00000011
BEGIN:VEVENT
SUMMARY:How to Craft a Successful Pitch to Retail Buyers
LAST-MODIFIED:20180726T180000Z
UID:ci_511E9D00000011@matrixgroup.net
CLASS:PUBLIC
CREATED:20180726T180000Z
DTSTAMP:20180726T180000Z
DTSTART:20180726T180000Z
X-FUNAMBOL-ALLDAY:1
LOCATION:
DESCRIPTION:For+full+info+see+http%3A%2F%2Fwww.fmi.org%2Fforms%2Fmeeting%2FMeetingFormPublic%2Fview%3Fid%3D511E9D00000011%0A
X-WR-CALDESC:For+full+info+see+http%3A%2F%2Fwww.fmi.org%2Fforms%2Fmeeting%2FMeetingFormPublic%2Fview%3Fid%3D511E9D00000011%0A
X-WR-CALNAME:Maxx Calendar
DTEND:20180726T184500Z
URL:http://www.fmi.org/forms/meeting/MeetingFormPublic/view?id=511E9D00000011
END:VEVENT
END:VCALENDAR