BEGIN:VCALENDAR
PRODID:-//MatrixMaxx//RemoteApi//EN
VERSION:2.0
METHOD:PUBLISH
CALSCALE:GREGORIAN
X-ORIGINAL-URL:http://www.fmi.org/forms/meeting/MeetingFormPublic/view?id=510F7E00000013
BEGIN:VEVENT
SUMMARY:IRI and FMI Top Trends in Fresh – New Consumerism and the Customization Continuum
LAST-MODIFIED:20180719T180000Z
UID:ci_510F7E00000013@matrixgroup.net
CLASS:PUBLIC
CREATED:20180719T180000Z
DTSTAMP:20180719T180000Z
DTSTART:20180719T180000Z
X-FUNAMBOL-ALLDAY:1
LOCATION:
DESCRIPTION:For+full+info+see+http%3A%2F%2Fwww.fmi.org%2Fforms%2Fmeeting%2FMeetingFormPublic%2Fview%3Fid%3D510F7E00000013%0ADuring+the+next+installment+of+the+Top+Trends+in+Fresh+webinar+series%2C+%E2%80%9CNew+Consumerism+and+the+Customization+Continuum%2C%E2%80%9D+IRI+and+FMI+will+share+the+latest+data+on+what%E2%80%99s+happening+in+the+perimeter.
X-WR-CALDESC:For+full+info+see+http%3A%2F%2Fwww.fmi.org%2Fforms%2Fmeeting%2FMeetingFormPublic%2Fview%3Fid%3D510F7E00000013%0ADuring+the+next+installment+of+the+Top+Trends+in+Fresh+webinar+series%2C+%E2%80%9CNew+Consumerism+and+the+Customization+Continuum%2C%E2%80%9D+IRI+and+FMI+will+share+the+latest+data+on+what%E2%80%99s+happening+in+the+perimeter.
X-WR-CALNAME:Maxx Calendar
DTEND:20180719T190000Z
URL:http://www.fmi.org/forms/meeting/MeetingFormPublic/view?id=510F7E00000013
END:VEVENT
END:VCALENDAR