BEGIN:VCALENDAR
PRODID:-//MatrixMaxx//RemoteApi//EN
VERSION:2.0
METHOD:PUBLISH
CALSCALE:GREGORIAN
X-ORIGINAL-URL:http://www.fmi.org/forms/meeting/MeetingFormPublic/view?id=50B069000000FD
BEGIN:VEVENT
SUMMARY:2018 GroceryShop
LAST-MODIFIED:20181028T190000Z
UID:ci_50B069000000FD@matrixgroup.net
CLASS:PUBLIC
CREATED:20181028T190000Z
DTSTAMP:20181028T190000Z
DTSTART:20181028T190000Z
X-FUNAMBOL-ALLDAY:1
LOCATION:Aria+Hotel
DESCRIPTION:For full info see http://www.fmi.org/forms/meeting/MeetingFormPublic/view?id=50B069000000FD\nFMI supports the launch of Groceryshop, which covers the evolution of grocery retailers, including supermarkets, mass merchants, convenience stores, drug stores, club/warehouse stores, discount stores and ecommerce players.
DTEND:20181031T190000Z
URL:http://www.fmi.org/forms/meeting/MeetingFormPublic/view?id=50B069000000FD
END:VEVENT
END:VCALENDAR