BEGIN:VCALENDAR
PRODID:-//MatrixMaxx//RemoteApi//EN
VERSION:2.0
METHOD:PUBLISH
CALSCALE:GREGORIAN
X-ORIGINAL-URL:http://www.fmi.org/forms/meeting/MeetingFormPublic/view?id=509128000001C8
BEGIN:VEVENT
SUMMARY:Introducing the Business (yes, business) Data and Tools Available from the U.S. Census Bureau
LAST-MODIFIED:20180724T180000Z
UID:ci_509128000001C8@matrixgroup.net
CLASS:PUBLIC
CREATED:20180724T180000Z
DTSTAMP:20180724T180000Z
DTSTART:20180724T180000Z
X-FUNAMBOL-ALLDAY:1
LOCATION:
DESCRIPTION:For+full+info+see+http%3A%2F%2Fwww.fmi.org%2Fforms%2Fmeeting%2FMeetingFormPublic%2Fview%3Fid%3D509128000001C8%0AThis+webinar+will+provide+an+overview+of+the+data+provided+and+how+Food+Retailers+can+use+these+data+in+their+businesses.++The+webinar+will+also+provide+a+live+demo+of+Census+Business+Builder%2C+an+easy+to+use+data+tool+designed+for+small+businesses.
X-WR-CALDESC:For+full+info+see+http%3A%2F%2Fwww.fmi.org%2Fforms%2Fmeeting%2FMeetingFormPublic%2Fview%3Fid%3D509128000001C8%0AThis+webinar+will+provide+an+overview+of+the+data+provided+and+how+Food+Retailers+can+use+these+data+in+their+businesses.++The+webinar+will+also+provide+a+live+demo+of+Census+Business+Builder%2C+an+easy+to+use+data+tool+designed+for+small+businesses.
X-WR-CALNAME:Maxx Calendar
DTEND:20180724T190000Z
URL:http://www.fmi.org/forms/meeting/MeetingFormPublic/view?id=509128000001C8
END:VEVENT
END:VCALENDAR