BEGIN:VCALENDAR
PRODID:-//MatrixMaxx//RemoteApi//EN
VERSION:2.0
METHOD:PUBLISH
CALSCALE:GREGORIAN
X-ORIGINAL-URL:http://www.fmi.org/forms/meeting/MeetingFormPublic/view?id=50873900000139
BEGIN:VEVENT
SUMMARY:Power of Foodservice at Retail: Part II
LAST-MODIFIED:20180823T180000Z
UID:ci_50873900000139@matrixgroup.net
CLASS:PUBLIC
CREATED:20180823T180000Z
DTSTAMP:20180823T180000Z
DTSTART:20180823T180000Z
X-FUNAMBOL-ALLDAY:1
LOCATION:Webinar
DESCRIPTION:For+full+info+see+http%3A%2F%2Fwww.fmi.org%2Fforms%2Fmeeting%2FMeetingFormPublic%2Fview%3Fid%3D50873900000139%0ARetail+foodservice+can+be+a+strong+area+of+growth+and+differentiation%2C+but+figuring+out+the+right+level+of+customization%2C+assortment+and+being+on+the+shopper+radar+continues+to+be+a+challenge.
X-WR-CALDESC:For+full+info+see+http%3A%2F%2Fwww.fmi.org%2Fforms%2Fmeeting%2FMeetingFormPublic%2Fview%3Fid%3D50873900000139%0ARetail+foodservice+can+be+a+strong+area+of+growth+and+differentiation%2C+but+figuring+out+the+right+level+of+customization%2C+assortment+and+being+on+the+shopper+radar+continues+to+be+a+challenge.
X-WR-CALNAME:Maxx Calendar
DTEND:20180823T190000Z
URL:http://www.fmi.org/forms/meeting/MeetingFormPublic/view?id=50873900000139
END:VEVENT
END:VCALENDAR