BEGIN:VCALENDAR
PRODID:-//MatrixMaxx//RemoteApi//EN
VERSION:2.0
METHOD:PUBLISH
CALSCALE:GREGORIAN
X-ORIGINAL-URL:http://www.fmi.org/forms/meeting/MeetingFormPublic/view?id=5080EB00000010
BEGIN:VEVENT
SUMMARY:How Does Your Company Stack Up Against Unsaleables?
LAST-MODIFIED:20180628T180000Z
UID:ci_5080EB00000010@matrixgroup.net
CLASS:PUBLIC
CREATED:20180628T180000Z
DTSTAMP:20180628T180000Z
DTSTART:20180628T180000Z
X-FUNAMBOL-ALLDAY:1
LOCATION:
DESCRIPTION:For+full+info+see+http%3A%2F%2Fwww.fmi.org%2Fforms%2Fmeeting%2FMeetingFormPublic%2Fview%3Fid%3D5080EB00000010%0AThe+Joint+Industry+Unsaleables+Leadership+Team+provides+strategies+and+educational+content+to+help+the+consumer+package+goods+industry+reduce+unsaleables.+
X-WR-CALDESC:For+full+info+see+http%3A%2F%2Fwww.fmi.org%2Fforms%2Fmeeting%2FMeetingFormPublic%2Fview%3Fid%3D5080EB00000010%0AThe+Joint+Industry+Unsaleables+Leadership+Team+provides+strategies+and+educational+content+to+help+the+consumer+package+goods+industry+reduce+unsaleables.+
X-WR-CALNAME:Maxx Calendar
DTEND:20180628T190000Z
URL:http://www.fmi.org/forms/meeting/MeetingFormPublic/view?id=5080EB00000010
END:VEVENT
END:VCALENDAR