BEGIN:VCALENDAR
PRODID:-//MatrixMaxx//RemoteApi//EN
VERSION:2.0
METHOD:PUBLISH
CALSCALE:GREGORIAN
X-ORIGINAL-URL:http://www.fmi.org/forms/meeting/MeetingFormPublic/view?id=5080E500000001
BEGIN:VEVENT
SUMMARY:The Shopper Desire to Eat Well  and the Implications for Shopping
LAST-MODIFIED:20180731T180000Z
UID:ci_5080E500000001@matrixgroup.net
CLASS:PUBLIC
CREATED:20180731T180000Z
DTSTAMP:20180731T180000Z
DTSTART:20180731T180000Z
X-FUNAMBOL-ALLDAY:1
LOCATION:
DESCRIPTION:For full info see http://www.fmi.org/forms/meeting/MeetingFormPublic/view?id=5080E500000001\nThis webinar will focus on consumers’ desires to eat (and shop) better. What does “eating well” mean? How satisfied are consumers with how well they eat? What are consumers’ concerns when grocery shopping? How can food retailers help shoppers shop well?
DTEND:20180731T190000Z
URL:http://www.fmi.org/forms/meeting/MeetingFormPublic/view?id=5080E500000001
END:VEVENT
END:VCALENDAR