BEGIN:VCALENDAR
PRODID:-//MatrixMaxx//RemoteApi//EN
VERSION:2.0
METHOD:PUBLISH
CALSCALE:GREGORIAN
X-ORIGINAL-URL:http://www.fmi.org/forms/meeting/MeetingFormPublic/view?id=50249500000012
BEGIN:VEVENT
SUMMARY:Inside The Grocery Shopper's Head: Where They've Been, Where They're Going
LAST-MODIFIED:20180626T180000Z
UID:ci_50249500000012@matrixgroup.net
CLASS:PUBLIC
CREATED:20180626T180000Z
DTSTAMP:20180626T180000Z
DTSTART:20180626T180000Z
X-FUNAMBOL-ALLDAY:1
LOCATION:
DESCRIPTION:For+full+info+see+http%3A%2F%2Fwww.fmi.org%2Fforms%2Fmeeting%2FMeetingFormPublic%2Fview%3Fid%3D50249500000012%0A+This+webinar+will+answer+such+questions+as%3A+What+are+shoppers+looking+for+in+a+retail+experience%3F+What+do+shoppers+want+from+their+grocery+store%3F+
X-WR-CALDESC:For+full+info+see+http%3A%2F%2Fwww.fmi.org%2Fforms%2Fmeeting%2FMeetingFormPublic%2Fview%3Fid%3D50249500000012%0A+This+webinar+will+answer+such+questions+as%3A+What+are+shoppers+looking+for+in+a+retail+experience%3F+What+do+shoppers+want+from+their+grocery+store%3F+
X-WR-CALNAME:Maxx Calendar
DTEND:20180626T190000Z
URL:http://www.fmi.org/forms/meeting/MeetingFormPublic/view?id=50249500000012
END:VEVENT
END:VCALENDAR