BEGIN:VCALENDAR
PRODID:-//MatrixMaxx//RemoteApi//EN
VERSION:2.0
METHOD:PUBLISH
CALSCALE:GREGORIAN
X-ORIGINAL-URL:http://www.fmi.org/forms/meeting/MeetingFormPublic/view?id=501923000000B9
BEGIN:VEVENT
SUMMARY:How to make your online shopping program a profit generator
LAST-MODIFIED:20180628T170000Z
UID:ci_501923000000B9@matrixgroup.net
CLASS:PUBLIC
CREATED:20180628T170000Z
DTSTAMP:20180628T170000Z
DTSTART:20180628T170000Z
X-FUNAMBOL-ALLDAY:1
LOCATION:
DESCRIPTION:For+full+info+see+http%3A%2F%2Fwww.fmi.org%2Fforms%2Fmeeting%2FMeetingFormPublic%2Fview%3Fid%3D501923000000B9%0A
X-WR-CALDESC:For+full+info+see+http%3A%2F%2Fwww.fmi.org%2Fforms%2Fmeeting%2FMeetingFormPublic%2Fview%3Fid%3D501923000000B9%0A
X-WR-CALNAME:Maxx Calendar
DTEND:20180628T180000Z
URL:http://www.fmi.org/forms/meeting/MeetingFormPublic/view?id=501923000000B9
END:VEVENT
END:VCALENDAR