BEGIN:VCALENDAR
PRODID:-//MatrixMaxx//RemoteApi//EN
VERSION:2.0
METHOD:PUBLISH
CALSCALE:GREGORIAN
X-ORIGINAL-URL:http://www.fmi.org/smartlabel-summit
BEGIN:VEVENT
SUMMARY:2018 TPA SmartLabel Summit
LAST-MODIFIED:20180926
UID:ci_4FF67600000020@matrixgroup.net
CLASS:PUBLIC
CREATED:20180926
DTSTAMP:20180926
DTSTART:20180926
X-FUNAMBOL-ALLDAY:1
LOCATION:Hyatt+Centric+Arlington
DESCRIPTION:For+full+info+see+http%3A%2F%2Fwww.fmi.org%2Fsmartlabel-summit%0ADesigned+to+meet+the+specific+needs+of+companies+using+or+looking+to+get+started+with+SmartLabel%2C+this+workshop+provides+an+education+on+the+most+relevant+topics+to+derive+the+best+value+from+SmartLabel.
X-WR-CALDESC:For+full+info+see+http%3A%2F%2Fwww.fmi.org%2Fsmartlabel-summit%0ADesigned+to+meet+the+specific+needs+of+companies+using+or+looking+to+get+started+with+SmartLabel%2C+this+workshop+provides+an+education+on+the+most+relevant+topics+to+derive+the+best+value+from+SmartLabel.
X-WR-CALNAME:Maxx Calendar
DTEND:20180928
URL:http://www.fmi.org/smartlabel-summit
END:VEVENT
END:VCALENDAR