BEGIN:VCALENDAR
PRODID:-//MatrixMaxx//RemoteApi//EN
VERSION:2.0
METHOD:PUBLISH
CALSCALE:GREGORIAN
X-ORIGINAL-URL:http://www.fmi.org/forms/meeting/MeetingFormPublic/view?id=4FDC0100000001
BEGIN:VEVENT
SUMMARY:A Deeper Dive into Food Retail Emerging Trends
LAST-MODIFIED:20180802T180000Z
UID:ci_4FDC0100000001@matrixgroup.net
CLASS:PUBLIC
CREATED:20180802T180000Z
DTSTAMP:20180802T180000Z
DTSTART:20180802T180000Z
X-FUNAMBOL-ALLDAY:1
LOCATION:Webinar
DESCRIPTION:For full info see http://www.fmi.org/forms/meeting/MeetingFormPublic/view?id=4FDC0100000001\nThis is the second of three sustainment activity modules that are required to achieve the Food Retail Leader Certificate. Registration for this webinar is currently restricted to attendees of the Future Leaders eXperience.
DTEND:20180802T190000Z
URL:http://www.fmi.org/forms/meeting/MeetingFormPublic/view?id=4FDC0100000001
END:VEVENT
END:VCALENDAR