BEGIN:VCALENDAR
PRODID:-//MatrixMaxx//RemoteApi//EN
VERSION:2.0
METHOD:PUBLISH
CALSCALE:GREGORIAN
X-ORIGINAL-URL:http://www.fmi.org/forms/meeting/MeetingFormPublic/view?id=4FDBFB0000005F
BEGIN:VEVENT
SUMMARY:Lead From Where You Are!
LAST-MODIFIED:20180913T180000Z
UID:ci_4FDBFB0000005F@matrixgroup.net
CLASS:PUBLIC
CREATED:20180913T180000Z
DTSTAMP:20180913T180000Z
DTSTART:20180913T180000Z
X-FUNAMBOL-ALLDAY:1
LOCATION:Webinar
DESCRIPTION:For+full+info+see+http%3A%2F%2Fwww.fmi.org%2Fforms%2Fmeeting%2FMeetingFormPublic%2Fview%3Fid%3D4FDBFB0000005F%0AThis+is+the+third+of+three+sustainment+activity+modules+that+are+required+to+achieve+the+Food+Retail+Leader+Certificate.+Registration+for+this+webinar+is+currently+restricted+to+attendees+of+the+Future+Leaders+eXperience.
X-WR-CALDESC:For+full+info+see+http%3A%2F%2Fwww.fmi.org%2Fforms%2Fmeeting%2FMeetingFormPublic%2Fview%3Fid%3D4FDBFB0000005F%0AThis+is+the+third+of+three+sustainment+activity+modules+that+are+required+to+achieve+the+Food+Retail+Leader+Certificate.+Registration+for+this+webinar+is+currently+restricted+to+attendees+of+the+Future+Leaders+eXperience.
X-WR-CALNAME:Maxx Calendar
DTEND:20180913T190000Z
URL:http://www.fmi.org/forms/meeting/MeetingFormPublic/view?id=4FDBFB0000005F
END:VEVENT
END:VCALENDAR