BEGIN:VCALENDAR
PRODID:-//MatrixMaxx//RemoteApi//EN
VERSION:2.0
METHOD:PUBLISH
CALSCALE:GREGORIAN
X-ORIGINAL-URL:http://www.fmi.org/forms/meeting/MeetingFormPublic/view?id=4FDB3A0000021D
BEGIN:VEVENT
SUMMARY:Taking Action as a Future Leader!
LAST-MODIFIED:20180628T180000Z
UID:ci_4FDB3A0000021D@matrixgroup.net
CLASS:PUBLIC
CREATED:20180628T180000Z
DTSTAMP:20180628T180000Z
DTSTART:20180628T180000Z
X-FUNAMBOL-ALLDAY:1
LOCATION:Webinar
DESCRIPTION:For full info see http://www.fmi.org/forms/meeting/MeetingFormPublic/view?id=4FDB3A0000021D\nThis is the first of three sustainment activity modules that are required to achieve the Food Retail Leader Certificate. Registration for this webinar is currently restricted to attendees of the Future Leaders eXperience.
DTEND:20180628T190000Z
URL:http://www.fmi.org/forms/meeting/MeetingFormPublic/view?id=4FDB3A0000021D
END:VEVENT
END:VCALENDAR