BEGIN:VCALENDAR
PRODID:-//MatrixMaxx//RemoteApi//EN
VERSION:2.0
METHOD:PUBLISH
CALSCALE:GREGORIAN
X-ORIGINAL-URL:http://www.fmi.org/forms/meeting/MeetingFormPublic/view?id=4FD65D0000028D
BEGIN:VEVENT
SUMMARY:Optimizing Orders to Drive Operational and Environmental Savings
LAST-MODIFIED:20180919T180000Z
UID:ci_4FD65D0000028D@matrixgroup.net
CLASS:PUBLIC
CREATED:20180919T180000Z
DTSTAMP:20180919T180000Z
DTSTART:20180919T180000Z
X-FUNAMBOL-ALLDAY:1
LOCATION:Webinar
DESCRIPTION:For full info see http://www.fmi.org/forms/meeting/MeetingFormPublic/view?id=4FD65D0000028D\nEach time a product is touched in the supply chain costs and availability are impacted. Although there are many variables that cause an increase in product handling, one of the most significant drivers is simply the way product is ordered.  
DTEND:20180919T190000Z
URL:http://www.fmi.org/forms/meeting/MeetingFormPublic/view?id=4FD65D0000028D
END:VEVENT
END:VCALENDAR